BEGIN:VCALENDAR
VERSION:2.0
PRODID:-//City of Soledad - ECPv6.15.20//NONSGML v1.0//EN
CALSCALE:GREGORIAN
METHOD:PUBLISH
X-WR-CALNAME:City of Soledad
X-ORIGINAL-URL:https://www.cityofsoledad.com
X-WR-CALDESC:Events for City of Soledad
REFRESH-INTERVAL;VALUE=DURATION:PT1H
X-Robots-Tag:noindex
X-PUBLISHED-TTL:PT1H
BEGIN:VTIMEZONE
TZID:UTC
BEGIN:STANDARD
TZOFFSETFROM:+0000
TZOFFSETTO:+0000
TZNAME:UTC
DTSTART:20210101T000000
END:STANDARD
END:VTIMEZONE
BEGIN:VEVENT
DTSTART;TZID=UTC:20220217T180000
DTEND;TZID=UTC:20220217T190000
DTSTAMP:20260420T062034
CREATED:20220211T074433Z
LAST-MODIFIED:20220211T085610Z
UID:10000417-1645120800-1645124400@www.cityofsoledad.com
SUMMARY:State of the City Address
DESCRIPTION:The overall theme for the State of the City is to reflect and inspire residents about what’s happening and what’s possible in 2022 as we build a foundation for the next centennial. This year\, it is imperative for us to share with our residents the City’s accomplishments in 2021\, and to provide emphasis on the vision of City departments for 2022. Due to the COVID-19 pandemic\, this will be held in a hybrid format.
URL:https://www.cityofsoledad.com/event/state-of-the-city-address/
LOCATION:Soledad Community Center\, 560 Walker Drive\, Soledad\, CA\, 93960\, United States
CATEGORIES:Event
ATTACH;FMTTYPE=image/jpeg:https://www.cityofsoledad.com/wp-content/uploads/2021/09/ANNA-MAYOR-CROPPED-scaled.jpg
END:VEVENT
END:VCALENDAR