BEGIN:VCALENDAR
VERSION:2.0
PRODID:-//City of Soledad - ECPv6.15.20//NONSGML v1.0//EN
CALSCALE:GREGORIAN
METHOD:PUBLISH
X-ORIGINAL-URL:https://www.cityofsoledad.com
X-WR-CALDESC:Events for City of Soledad
REFRESH-INTERVAL;VALUE=DURATION:PT1H
X-Robots-Tag:noindex
X-PUBLISHED-TTL:PT1H
BEGIN:VTIMEZONE
TZID:UTC
BEGIN:STANDARD
TZOFFSETFROM:+0000
TZOFFSETTO:+0000
TZNAME:UTC
DTSTART:20210101T000000
END:STANDARD
END:VTIMEZONE
BEGIN:VTIMEZONE
TZID:America/Los_Angeles
BEGIN:DAYLIGHT
TZOFFSETFROM:-0800
TZOFFSETTO:-0700
TZNAME:PDT
DTSTART:20210314T100000
END:DAYLIGHT
BEGIN:STANDARD
TZOFFSETFROM:-0700
TZOFFSETTO:-0800
TZNAME:PST
DTSTART:20211107T090000
END:STANDARD
BEGIN:DAYLIGHT
TZOFFSETFROM:-0800
TZOFFSETTO:-0700
TZNAME:PDT
DTSTART:20220313T100000
END:DAYLIGHT
BEGIN:STANDARD
TZOFFSETFROM:-0700
TZOFFSETTO:-0800
TZNAME:PST
DTSTART:20221106T090000
END:STANDARD
BEGIN:DAYLIGHT
TZOFFSETFROM:-0800
TZOFFSETTO:-0700
TZNAME:PDT
DTSTART:20230312T100000
END:DAYLIGHT
BEGIN:STANDARD
TZOFFSETFROM:-0700
TZOFFSETTO:-0800
TZNAME:PST
DTSTART:20231105T090000
END:STANDARD
END:VTIMEZONE
BEGIN:VEVENT
DTSTART;TZID=UTC:20220511T090000
DTEND;TZID=UTC:20220511T100000
DTSTAMP:20260419T074600
CREATED:20220427T040259Z
LAST-MODIFIED:20220427T040259Z
UID:10000496-1652259600-1652263200@www.cityofsoledad.com
SUMMARY:Curious Kids
DESCRIPTION:Science\, Sensory\, Art \nSession: 4 Classes – $20 \nDaily drop-n: $6 drop-in \nDays: Wednesdays \nTimes: 9:00 a.m. – 10:00 a.m. \nPARENTS MUST BE PRESENT.
URL:https://www.cityofsoledad.com/event/curious-kids/2022-05-11/
LOCATION:Soledad Community Center\, 560 Walker Drive\, Soledad\, CA\, 93960\, United States
CATEGORIES:Community Center,Event
ATTACH;FMTTYPE=image/png:https://www.cityofsoledad.com/wp-content/uploads/2022/02/Comm-Centr-Logo.png
END:VEVENT
BEGIN:VEVENT
DTSTART;TZID=UTC:20220511T163000
DTEND;TZID=UTC:20220511T173000
DTSTAMP:20260419T074600
CREATED:20220426T004000Z
LAST-MODIFIED:20220426T004000Z
UID:10000485-1652286600-1652290200@www.cityofsoledad.com
SUMMARY:Resume Workshop - Hartnell Career Services
DESCRIPTION:Resume Workshops in partnership with Hartnell Career Services and the City of Soledad. These are to prepare community members for the South County Job Fair taking place at the Soledad Community Center on June 1st. All South County residents are welcomed to join! \nThese will be taking place on Wednesday\, May 11 & May 18 from 4:30 p.m. – 5:30 p.m. at the Hartnell College Soledad Campus. \n1505 Metz Rd. Soledad\, CA 93960 \nIf you have any questions\, please reach out to the Community Engagement Coordinator with the City of Soledad at jcampa@cityofsoledad.com or 831-223-5056.
URL:https://www.cityofsoledad.com/event/resume-workshop-hartnell-career-services/2022-05-11/
LOCATION:Hartnell College Education Center – Soledad Campus\, 1505 Metz Rd.\, Soledad\, CA\, 93960\, United States
CATEGORIES:Event
ATTACH;FMTTYPE=image/jpeg:https://www.cityofsoledad.com/wp-content/uploads/2022/04/hartnell-logo.jpg
END:VEVENT
BEGIN:VEVENT
DTSTART;TZID=UTC:20220511T163000
DTEND;TZID=UTC:20220511T173000
DTSTAMP:20260419T074600
CREATED:20220427T040726Z
LAST-MODIFIED:20220427T040747Z
UID:10000500-1652286600-1652290200@www.cityofsoledad.com
SUMMARY:Beginners Sketching
DESCRIPTION:Learn to draw. \nPractice your drawing skills with this beginner course that will cover the basics and get you prepared to draw your very own masterpiece. \nAges: 9-15 \n5 Classes: $15 \nWednesdays from 4:30 p.m. – 5:30 p.m.
URL:https://www.cityofsoledad.com/event/beginners-sketching/2022-05-11/
LOCATION:Soledad Community Center\, 560 Walker Drive\, Soledad\, CA\, 93960\, United States
CATEGORIES:Community Center,Event
ATTACH;FMTTYPE=image/png:https://www.cityofsoledad.com/wp-content/uploads/2022/02/Comm-Centr-Logo.png
END:VEVENT
BEGIN:VEVENT
DTSTART;TZID=America/Los_Angeles:20220511T180000
DTEND;TZID=America/Los_Angeles:20220511T220000
DTSTAMP:20260419T074600
CREATED:20220209T015905Z
LAST-MODIFIED:20220211T073856Z
UID:10000407-1652292000-1652306400@www.cityofsoledad.com
SUMMARY:Regular City Council Meeting
DESCRIPTION:The public meeting will open at 6:00pm and after taking public comment for closed session items\, the Council will immediately recess to closed session. The regular public open meeting will begin at 6:30pm\, or as soon thereafter as the Closed Session is concluded\, and any reportable action taken during the Closed Session will be reported out at that time. Due to COVID-19 meetings are being held in a hybrid format. You may participate in-person or virtually via Zoom and Facebook.
URL:https://www.cityofsoledad.com/event/regular-city-council-meeting/2022-05-11/
LOCATION:Soledad City Hall\, 248 Main Street\, Soledad\, CA\, 93960
CATEGORIES:City Council,Meeting
ATTACH;FMTTYPE=image/jpeg:https://www.cityofsoledad.com/wp-content/uploads/2021/09/citycouncilview.jpg
END:VEVENT
BEGIN:VEVENT
DTSTART;TZID=UTC:20220511T190000
DTEND;TZID=UTC:20220511T220000
DTSTAMP:20260419T074600
CREATED:20220425T235242Z
LAST-MODIFIED:20220425T235301Z
UID:10000479-1652295600-1652306400@www.cityofsoledad.com
SUMMARY:Regular School Board Meeting
DESCRIPTION:The Board holds regular meetings once a month on the second Wednesday at 7:00 p.m. at the District Office according to the posted schedule. All meetings are open to the public with the exception of “Closed Sessions\,” which may be held to discuss confidential personnel matters\, matters pertaining to an individual student\, labor negotiations and legal matters. Meetings are open to the public; however\, only business for which meeting was called can be discussed. Currently\, due to COVID-19\, meetings are being held in a hybrid format. You may participate in-person or virtually. Members of the public may view the meeting via Zoom and Facebook.
URL:https://www.cityofsoledad.com/event/regular-school-board-meeting-3/
LOCATION:Soledad Unified School District\, 1261 Metz Rd.\, Soledad\, CA\, 93960\, United States
CATEGORIES:Meeting,School Board
ATTACH;FMTTYPE=image/jpeg:https://www.cityofsoledad.com/wp-content/uploads/2022/02/SUSD.jpg
END:VEVENT
END:VCALENDAR