BEGIN:VCALENDAR
VERSION:2.0
PRODID:-//City of Soledad - ECPv6.15.20//NONSGML v1.0//EN
CALSCALE:GREGORIAN
METHOD:PUBLISH
X-WR-CALNAME:City of Soledad
X-ORIGINAL-URL:https://www.cityofsoledad.com
X-WR-CALDESC:Events for City of Soledad
REFRESH-INTERVAL;VALUE=DURATION:PT1H
X-Robots-Tag:noindex
X-PUBLISHED-TTL:PT1H
BEGIN:VTIMEZONE
TZID:UTC
BEGIN:STANDARD
TZOFFSETFROM:+0000
TZOFFSETTO:+0000
TZNAME:UTC
DTSTART:20210101T000000
END:STANDARD
END:VTIMEZONE
BEGIN:VEVENT
DTSTART;TZID=UTC:20220516T170000
DTEND;TZID=UTC:20220516T173000
DTSTAMP:20260420T093515
CREATED:20220507T064829Z
LAST-MODIFIED:20220507T064829Z
UID:10000506-1652720400-1652722200@www.cityofsoledad.com
SUMMARY:Mindfulness for Parents/Caregivers & Our Communities
DESCRIPTION:Mindful Life Project is honored to be leading mindfulness for parents and caregivers. To support your own mental and emotional health and to be able to support our kids\, Mindful Life Project will be providing bilingual sessions! \nDate: 4/25/22 \nTime: 5:00 p.m. – 5:30 p.m. \nWhere: Join on Zoom \nZoom ID: https://bit.ly/3IY5cOu
URL:https://www.cityofsoledad.com/event/mindfulness-for-parents-caregivers-our-communities/
LOCATION:Virtual Event
CATEGORIES:Event,Virtual
ATTACH;FMTTYPE=image/jpeg:https://www.cityofsoledad.com/wp-content/uploads/2022/02/SUSD.jpg
END:VEVENT
END:VCALENDAR