BEGIN:VCALENDAR
VERSION:2.0
PRODID:-//City of Soledad - ECPv6.15.20//NONSGML v1.0//EN
CALSCALE:GREGORIAN
METHOD:PUBLISH
X-ORIGINAL-URL:https://www.cityofsoledad.com
X-WR-CALDESC:Events for City of Soledad
REFRESH-INTERVAL;VALUE=DURATION:PT1H
X-Robots-Tag:noindex
X-PUBLISHED-TTL:PT1H
BEGIN:VTIMEZONE
TZID:UTC
BEGIN:STANDARD
TZOFFSETFROM:+0000
TZOFFSETTO:+0000
TZNAME:UTC
DTSTART:20210101T000000
END:STANDARD
END:VTIMEZONE
BEGIN:VEVENT
DTSTART;TZID=UTC:20220521T100000
DTEND;TZID=UTC:20220521T130000
DTSTAMP:20260420T092834
CREATED:20220426T001343Z
LAST-MODIFIED:20220426T001343Z
UID:10000483-1653127200-1653138000@www.cityofsoledad.com
SUMMARY:Premiere Cinemas Grand Opening
DESCRIPTION:Please join us for the Premiere Cinemas Official Grand Opening Event. \nThe movie theatre opened for business in October 2021\, with their soft opening and ribbon cutting. Since some residents are still unaware that they are open\, an official Grand Opening will be taking place on Saturday\, May 21st at 10:00 a.m. \nFree movie time will start at 10:30 a.m. More details for this event will be coming soon.
URL:https://www.cityofsoledad.com/event/premiere-cinemas-grand-opening/
LOCATION:Premiere Cinemas\, 499 Nestles Rd.\, Soledad\, CA\, 93960\, United States
CATEGORIES:Event
ATTACH;FMTTYPE=image/png:https://www.cityofsoledad.com/wp-content/uploads/2022/04/pc-logo.png
END:VEVENT
END:VCALENDAR