BEGIN:VCALENDAR
VERSION:2.0
PRODID:-//City of Soledad - ECPv6.15.20//NONSGML v1.0//EN
CALSCALE:GREGORIAN
METHOD:PUBLISH
X-ORIGINAL-URL:https://www.cityofsoledad.com
X-WR-CALDESC:Events for City of Soledad
REFRESH-INTERVAL;VALUE=DURATION:PT1H
X-Robots-Tag:noindex
X-PUBLISHED-TTL:PT1H
BEGIN:VTIMEZONE
TZID:UTC
BEGIN:STANDARD
TZOFFSETFROM:+0000
TZOFFSETTO:+0000
TZNAME:UTC
DTSTART:20210101T000000
END:STANDARD
END:VTIMEZONE
BEGIN:VEVENT
DTSTART;TZID=UTC:20220623T160000
DTEND;TZID=UTC:20220623T173000
DTSTAMP:20260423T191146
CREATED:20220527T005607Z
LAST-MODIFIED:20220527T005607Z
UID:10000548-1656000000-1656005400@www.cityofsoledad.com
SUMMARY:Stay & Play
DESCRIPTION:Our program provides an opportunity for children to enjoy some fun activities while parents enjoy a workout or some time to catch up on errands. Children will enjoy a variety of games and crafts in a safe and welcoming environment. Perfect for those looking for a little extra time after our Summer camp. \nJune 13 – August 5 \nAges: 5-12 \nDays: Monday – Friday Time: 4:00 p.m. – 5:30 p.m. \nRate: $5 per day \nPre-registration is required\, Wednesday prior to week\, no drop-in \nSpace is limited\, register early \n$5 late fee for every 5 minutes after 5:30 p.m.
URL:https://www.cityofsoledad.com/event/stay-play/2022-06-23/
LOCATION:Soledad Community Center\, 560 Walker Drive\, Soledad\, CA\, 93960\, United States
CATEGORIES:Community Center,Event
ATTACH;FMTTYPE=image/png:https://www.cityofsoledad.com/wp-content/uploads/2022/02/Comm-Centr-Logo.png
END:VEVENT
BEGIN:VEVENT
DTSTART;TZID=UTC:20220623T180000
DTEND;TZID=UTC:20220623T190000
DTSTAMP:20260423T191146
CREATED:20220616T064434Z
LAST-MODIFIED:20220616T064434Z
UID:10000593-1656007200-1656010800@www.cityofsoledad.com
SUMMARY:Soledad Merchants Third Meeting
DESCRIPTION:There will be 3 speakers for this third meeting on June 23 from 6:00 p.m. – 7:00 p.m. at Soledad Round Table Pizza \nBrent Slama – City Manager \nAna Gonzalez – Director of Hartnell College Education Center \nMaury Treleven – Consulting Project Manager \nBusinesses & entrepreneurs are invited\, visit the Merchants online to become a member today
URL:https://www.cityofsoledad.com/event/soledad-merchants-third-meeting/
LOCATION:Round Table Pizza\, 2135 H Dela Rosa Sr St.\, Soledad\, CA\, 93960\, United States
CATEGORIES:Meeting
ATTACH;FMTTYPE=image/png:https://www.cityofsoledad.com/wp-content/uploads/2022/05/soledad-merchants.png
END:VEVENT
BEGIN:VEVENT
DTSTART;TZID=UTC:20220623T180000
DTEND;TZID=UTC:20220623T200000
DTSTAMP:20260423T191146
CREATED:20220601T004647Z
LAST-MODIFIED:20220603T042412Z
UID:10000586-1656007200-1656014400@www.cityofsoledad.com
SUMMARY:Fair Housing Training
DESCRIPTION:Soledad residents\, you are invited to a fair housing training. \n\nGet an overview of the Federal and State Fair Housing Laws\nLearn about new fair housing protections under the law\nLearn about the 2 plus 1 occupancy guideline\nGet your fair housing questions answered\nLearn how ECHO Housing can support housing providers and renters\n\nThis will be on June 23\, 2022 from 6:00 p.m. – 8:00 p.m. \nTo register\, please follow this link: https://us02web.zoom.us/webinar/register/WN_M2-YQxxyQ3u5tsQVHnO9Tw?fbclid=IwAR0PhIRQndqHLMpMNg2aSIQFomXfqjHujEO_h7KtWIF5Gx-phGtuqJKpsH8 \nFor more information\, call 831-223-5251
URL:https://www.cityofsoledad.com/event/fair-housing-training/
LOCATION:Virtual Event
CATEGORIES:Event,Virtual
ATTACH;FMTTYPE=image/png:https://www.cityofsoledad.com/wp-content/uploads/2022/02/Soledad-logo-with-tag-1.png
END:VEVENT
END:VCALENDAR