BEGIN:VCALENDAR
VERSION:2.0
PRODID:-//City of Soledad - ECPv6.15.20//NONSGML v1.0//EN
CALSCALE:GREGORIAN
METHOD:PUBLISH
X-ORIGINAL-URL:https://www.cityofsoledad.com
X-WR-CALDESC:Events for City of Soledad
REFRESH-INTERVAL;VALUE=DURATION:PT1H
X-Robots-Tag:noindex
X-PUBLISHED-TTL:PT1H
BEGIN:VTIMEZONE
TZID:UTC
BEGIN:STANDARD
TZOFFSETFROM:+0000
TZOFFSETTO:+0000
TZNAME:UTC
DTSTART:20210101T000000
END:STANDARD
END:VTIMEZONE
BEGIN:VEVENT
DTSTART;TZID=UTC:20220630T080000
DTEND;TZID=UTC:20220630T100000
DTSTAMP:20260420T062125
CREATED:20220616T065044Z
LAST-MODIFIED:20220616T065044Z
UID:10000595-1656576000-1656583200@www.cityofsoledad.com
SUMMARY:Coffee and Conversation with Economic Development
DESCRIPTION:We would like to invite local Soledad businesses for coffee and a conversation with our Economic Development team \nThis will be on Thursday\, June 30 at 8:00 a.m. in the Council Chambers at Soledad City Hall \nFor questions\, please call 831-223-5016 or email tvargas@cityofsoledad.com
URL:https://www.cityofsoledad.com/event/coffee-and-conversation-with-economic-development/
LOCATION:Soledad City Hall\, 248 Main Street\, Soledad\, CA\, 93960
CATEGORIES:City Hall,Meeting
ATTACH;FMTTYPE=image/png:https://www.cityofsoledad.com/wp-content/uploads/2022/02/Soledad-logo-with-tag-1.png
END:VEVENT
BEGIN:VEVENT
DTSTART;TZID=UTC:20220630T100000
DTEND;TZID=UTC:20220630T120000
DTSTAMP:20260420T062125
CREATED:20220527T005018Z
LAST-MODIFIED:20220527T005018Z
UID:10000526-1656583200-1656590400@www.cityofsoledad.com
SUMMARY:Sports Camp
DESCRIPTION:Ages 5-10 \nTuesday – Friday – 10:00 a.m. – 12:00 p.m. \n$20 \nEach week we focus on a different sport and work on basic skills to teach kids the fundamentals of each sport \n4 one-week sessions \nWeek 1: June 28 – July 1 Football \nWeek 2: July 5 – July 8 Soccer \nWeek 3: July 12 – July 15 Basketball \nWeek 4: July 19 – July 22 Baseball/Softball (Please bring your own glove) \nPre-registration required \nFull week blocks only \nNo drop-in
URL:https://www.cityofsoledad.com/event/sports-camp/2022-06-30/
LOCATION:Soledad Community Center\, 560 Walker Drive\, Soledad\, CA\, 93960\, United States
CATEGORIES:Community Center,Event
ATTACH;FMTTYPE=image/png:https://www.cityofsoledad.com/wp-content/uploads/2022/02/Comm-Centr-Logo.png
END:VEVENT
BEGIN:VEVENT
DTSTART;TZID=UTC:20220630T100000
DTEND;TZID=UTC:20220630T120000
DTSTAMP:20260420T062125
CREATED:20220616T064650Z
LAST-MODIFIED:20220616T064650Z
UID:10000594-1656583200-1656590400@www.cityofsoledad.com
SUMMARY:Free Small Business Webinar
DESCRIPTION:Hosted by State Controller Betty T. Yee\, City of Soledad and the City of Salinas \nJune 30 from 10:00 a.m. – 12:00 p.m. \nRegister at: bit.ly/3z19KCg
URL:https://www.cityofsoledad.com/event/free-small-business-webinar/
LOCATION:Virtual Event
CATEGORIES:Event,Meeting
ATTACH;FMTTYPE=image/png:https://www.cityofsoledad.com/wp-content/uploads/2021/09/JOB_LOGO.png
END:VEVENT
BEGIN:VEVENT
DTSTART;TZID=UTC:20220630T160000
DTEND;TZID=UTC:20220630T173000
DTSTAMP:20260420T062125
CREATED:20220527T005607Z
LAST-MODIFIED:20220527T005607Z
UID:10000553-1656604800-1656610200@www.cityofsoledad.com
SUMMARY:Stay & Play
DESCRIPTION:Our program provides an opportunity for children to enjoy some fun activities while parents enjoy a workout or some time to catch up on errands. Children will enjoy a variety of games and crafts in a safe and welcoming environment. Perfect for those looking for a little extra time after our Summer camp. \nJune 13 – August 5 \nAges: 5-12 \nDays: Monday – Friday Time: 4:00 p.m. – 5:30 p.m. \nRate: $5 per day \nPre-registration is required\, Wednesday prior to week\, no drop-in \nSpace is limited\, register early \n$5 late fee for every 5 minutes after 5:30 p.m.
URL:https://www.cityofsoledad.com/event/stay-play/2022-06-30/
LOCATION:Soledad Community Center\, 560 Walker Drive\, Soledad\, CA\, 93960\, United States
CATEGORIES:Community Center,Event
ATTACH;FMTTYPE=image/png:https://www.cityofsoledad.com/wp-content/uploads/2022/02/Comm-Centr-Logo.png
END:VEVENT
END:VCALENDAR