BEGIN:VCALENDAR
VERSION:2.0
PRODID:-//City of Soledad - ECPv6.15.20//NONSGML v1.0//EN
CALSCALE:GREGORIAN
METHOD:PUBLISH
X-WR-CALNAME:City of Soledad
X-ORIGINAL-URL:https://www.cityofsoledad.com
X-WR-CALDESC:Events for City of Soledad
REFRESH-INTERVAL;VALUE=DURATION:PT1H
X-Robots-Tag:noindex
X-PUBLISHED-TTL:PT1H
BEGIN:VTIMEZONE
TZID:UTC
BEGIN:STANDARD
TZOFFSETFROM:+0000
TZOFFSETTO:+0000
TZNAME:UTC
DTSTART:20210101T000000
END:STANDARD
END:VTIMEZONE
BEGIN:VTIMEZONE
TZID:America/Los_Angeles
BEGIN:DAYLIGHT
TZOFFSETFROM:-0800
TZOFFSETTO:-0700
TZNAME:PDT
DTSTART:20210314T100000
END:DAYLIGHT
BEGIN:STANDARD
TZOFFSETFROM:-0700
TZOFFSETTO:-0800
TZNAME:PST
DTSTART:20211107T090000
END:STANDARD
BEGIN:DAYLIGHT
TZOFFSETFROM:-0800
TZOFFSETTO:-0700
TZNAME:PDT
DTSTART:20220313T100000
END:DAYLIGHT
BEGIN:STANDARD
TZOFFSETFROM:-0700
TZOFFSETTO:-0800
TZNAME:PST
DTSTART:20221106T090000
END:STANDARD
BEGIN:DAYLIGHT
TZOFFSETFROM:-0800
TZOFFSETTO:-0700
TZNAME:PDT
DTSTART:20230312T100000
END:DAYLIGHT
BEGIN:STANDARD
TZOFFSETFROM:-0700
TZOFFSETTO:-0800
TZNAME:PST
DTSTART:20231105T090000
END:STANDARD
END:VTIMEZONE
BEGIN:VEVENT
DTSTART;TZID=UTC:20220706T100000
DTEND;TZID=UTC:20220706T120000
DTSTAMP:20260420T044113
CREATED:20220527T005018Z
LAST-MODIFIED:20220527T005018Z
UID:10000529-1657101600-1657108800@www.cityofsoledad.com
SUMMARY:Sports Camp
DESCRIPTION:Ages 5-10 \nTuesday – Friday – 10:00 a.m. – 12:00 p.m. \n$20 \nEach week we focus on a different sport and work on basic skills to teach kids the fundamentals of each sport \n4 one-week sessions \nWeek 1: June 28 – July 1 Football \nWeek 2: July 5 – July 8 Soccer \nWeek 3: July 12 – July 15 Basketball \nWeek 4: July 19 – July 22 Baseball/Softball (Please bring your own glove) \nPre-registration required \nFull week blocks only \nNo drop-in
URL:https://www.cityofsoledad.com/event/sports-camp/2022-07-06/
LOCATION:Soledad Community Center\, 560 Walker Drive\, Soledad\, CA\, 93960\, United States
CATEGORIES:Community Center,Event
ATTACH;FMTTYPE=image/png:https://www.cityofsoledad.com/wp-content/uploads/2022/02/Comm-Centr-Logo.png
END:VEVENT
BEGIN:VEVENT
DTSTART;TZID=UTC:20220706T160000
DTEND;TZID=UTC:20220706T173000
DTSTAMP:20260420T044113
CREATED:20220527T005607Z
LAST-MODIFIED:20220527T005607Z
UID:10000557-1657123200-1657128600@www.cityofsoledad.com
SUMMARY:Stay & Play
DESCRIPTION:Our program provides an opportunity for children to enjoy some fun activities while parents enjoy a workout or some time to catch up on errands. Children will enjoy a variety of games and crafts in a safe and welcoming environment. Perfect for those looking for a little extra time after our Summer camp. \nJune 13 – August 5 \nAges: 5-12 \nDays: Monday – Friday Time: 4:00 p.m. – 5:30 p.m. \nRate: $5 per day \nPre-registration is required\, Wednesday prior to week\, no drop-in \nSpace is limited\, register early \n$5 late fee for every 5 minutes after 5:30 p.m.
URL:https://www.cityofsoledad.com/event/stay-play/2022-07-06/
LOCATION:Soledad Community Center\, 560 Walker Drive\, Soledad\, CA\, 93960\, United States
CATEGORIES:Community Center,Event
ATTACH;FMTTYPE=image/png:https://www.cityofsoledad.com/wp-content/uploads/2022/02/Comm-Centr-Logo.png
END:VEVENT
BEGIN:VEVENT
DTSTART;TZID=America/Los_Angeles:20220706T180000
DTEND;TZID=America/Los_Angeles:20220706T220000
DTSTAMP:20260420T044113
CREATED:20220209T015905Z
LAST-MODIFIED:20220211T073856Z
UID:10000411-1657130400-1657144800@www.cityofsoledad.com
SUMMARY:Regular City Council Meeting
DESCRIPTION:The public meeting will open at 6:00pm and after taking public comment for closed session items\, the Council will immediately recess to closed session. The regular public open meeting will begin at 6:30pm\, or as soon thereafter as the Closed Session is concluded\, and any reportable action taken during the Closed Session will be reported out at that time. Due to COVID-19 meetings are being held in a hybrid format. You may participate in-person or virtually via Zoom and Facebook.
URL:https://www.cityofsoledad.com/event/regular-city-council-meeting/2022-07-06/
LOCATION:Soledad City Hall\, 248 Main Street\, Soledad\, CA\, 93960
CATEGORIES:City Council,Meeting
ATTACH;FMTTYPE=image/jpeg:https://www.cityofsoledad.com/wp-content/uploads/2021/09/citycouncilview.jpg
END:VEVENT
END:VCALENDAR