BEGIN:VCALENDAR
VERSION:2.0
PRODID:-//City of Soledad - ECPv6.15.20//NONSGML v1.0//EN
CALSCALE:GREGORIAN
METHOD:PUBLISH
X-ORIGINAL-URL:https://www.cityofsoledad.com
X-WR-CALDESC:Events for City of Soledad
REFRESH-INTERVAL;VALUE=DURATION:PT1H
X-Robots-Tag:noindex
X-PUBLISHED-TTL:PT1H
BEGIN:VTIMEZONE
TZID:America/Los_Angeles
BEGIN:DAYLIGHT
TZOFFSETFROM:-0800
TZOFFSETTO:-0700
TZNAME:PDT
DTSTART:20220313T100000
END:DAYLIGHT
BEGIN:STANDARD
TZOFFSETFROM:-0700
TZOFFSETTO:-0800
TZNAME:PST
DTSTART:20221106T090000
END:STANDARD
BEGIN:DAYLIGHT
TZOFFSETFROM:-0800
TZOFFSETTO:-0700
TZNAME:PDT
DTSTART:20230312T100000
END:DAYLIGHT
BEGIN:STANDARD
TZOFFSETFROM:-0700
TZOFFSETTO:-0800
TZNAME:PST
DTSTART:20231105T090000
END:STANDARD
BEGIN:DAYLIGHT
TZOFFSETFROM:-0800
TZOFFSETTO:-0700
TZNAME:PDT
DTSTART:20240310T100000
END:DAYLIGHT
BEGIN:STANDARD
TZOFFSETFROM:-0700
TZOFFSETTO:-0800
TZNAME:PST
DTSTART:20241103T090000
END:STANDARD
END:VTIMEZONE
BEGIN:VEVENT
DTSTART;TZID=America/Los_Angeles:20231101T080000
DTEND;TZID=America/Los_Angeles:20231101T170000
DTSTAMP:20260420T125328
CREATED:20231004T191648Z
LAST-MODIFIED:20231004T211132Z
UID:10000818-1698825600-1698858000@www.cityofsoledad.com
SUMMARY:Cookies With Santa Choir
DESCRIPTION:Be part of the choir that sings to Santa and learn fun\, classic\, Christmas songs. \nStarts November \n$30 for 4 classes
URL:https://www.cityofsoledad.com/event/cookies-with-santa-choir/
LOCATION:Soledad Community Center\, 560 Walker Drive\, Soledad\, CA\, 93960\, United States
END:VEVENT
BEGIN:VEVENT
DTSTART;TZID=America/Los_Angeles:20231101T180000
DTEND;TZID=America/Los_Angeles:20231101T190000
DTSTAMP:20260420T125328
CREATED:20231004T185401Z
LAST-MODIFIED:20231004T185541Z
UID:10000816-1698861600-1698865200@www.cityofsoledad.com
SUMMARY:Sugar Skull Crafts
DESCRIPTION:Decorate your own ceramic skull to celebrate Day of the Dead. \n$15 per skull
URL:https://www.cityofsoledad.com/event/sugar-skull-crafts/
LOCATION:Soledad Community Center\, 560 Walker Drive\, Soledad\, CA\, 93960\, United States
END:VEVENT
END:VCALENDAR