BEGIN:VCALENDAR
VERSION:2.0
PRODID:-//City of Soledad - ECPv6.15.20//NONSGML v1.0//EN
CALSCALE:GREGORIAN
METHOD:PUBLISH
X-WR-CALNAME:City of Soledad
X-ORIGINAL-URL:https://www.cityofsoledad.com
X-WR-CALDESC:Events for City of Soledad
REFRESH-INTERVAL;VALUE=DURATION:PT1H
X-Robots-Tag:noindex
X-PUBLISHED-TTL:PT1H
BEGIN:VTIMEZONE
TZID:America/Los_Angeles
BEGIN:DAYLIGHT
TZOFFSETFROM:-0800
TZOFFSETTO:-0700
TZNAME:PDT
DTSTART:20230312T100000
END:DAYLIGHT
BEGIN:STANDARD
TZOFFSETFROM:-0700
TZOFFSETTO:-0800
TZNAME:PST
DTSTART:20231105T090000
END:STANDARD
BEGIN:DAYLIGHT
TZOFFSETFROM:-0800
TZOFFSETTO:-0700
TZNAME:PDT
DTSTART:20240310T100000
END:DAYLIGHT
BEGIN:STANDARD
TZOFFSETFROM:-0700
TZOFFSETTO:-0800
TZNAME:PST
DTSTART:20241103T090000
END:STANDARD
BEGIN:DAYLIGHT
TZOFFSETFROM:-0800
TZOFFSETTO:-0700
TZNAME:PDT
DTSTART:20250309T100000
END:DAYLIGHT
BEGIN:STANDARD
TZOFFSETFROM:-0700
TZOFFSETTO:-0800
TZNAME:PST
DTSTART:20251102T090000
END:STANDARD
END:VTIMEZONE
BEGIN:VEVENT
DTSTART;TZID=America/Los_Angeles:20240524T050000
DTEND;TZID=America/Los_Angeles:20240524T230000
DTSTAMP:20260419T182901
CREATED:20240523T015150Z
LAST-MODIFIED:20240523T015150Z
UID:10001168-1716526800-1716591600@www.cityofsoledad.com
SUMMARY:Soledad Dutch Bros Grand Opening May 24th\, 2024
DESCRIPTION:  \nThe wait is finally over! Dutch Bros will officially be open beginning Friday May 24th!
URL:https://www.cityofsoledad.com/event/soledad-dutch-bros-grand-opening-may-24th-2024/
LOCATION:526 Nestles Rd\, Soledad CA 93960\, 526 Nestles Rd\, Soledad\, CA\, 93960\, United States
END:VEVENT
END:VCALENDAR