BEGIN:VCALENDAR
VERSION:2.0
PRODID:-//City of Soledad - ECPv6.15.20//NONSGML v1.0//EN
CALSCALE:GREGORIAN
METHOD:PUBLISH
X-WR-CALNAME:City of Soledad
X-ORIGINAL-URL:https://www.cityofsoledad.com
X-WR-CALDESC:Events for City of Soledad
REFRESH-INTERVAL;VALUE=DURATION:PT1H
X-Robots-Tag:noindex
X-PUBLISHED-TTL:PT1H
BEGIN:VTIMEZONE
TZID:America/Los_Angeles
BEGIN:DAYLIGHT
TZOFFSETFROM:-0800
TZOFFSETTO:-0700
TZNAME:PDT
DTSTART:20230312T100000
END:DAYLIGHT
BEGIN:STANDARD
TZOFFSETFROM:-0700
TZOFFSETTO:-0800
TZNAME:PST
DTSTART:20231105T090000
END:STANDARD
BEGIN:DAYLIGHT
TZOFFSETFROM:-0800
TZOFFSETTO:-0700
TZNAME:PDT
DTSTART:20240310T100000
END:DAYLIGHT
BEGIN:STANDARD
TZOFFSETFROM:-0700
TZOFFSETTO:-0800
TZNAME:PST
DTSTART:20241103T090000
END:STANDARD
BEGIN:DAYLIGHT
TZOFFSETFROM:-0800
TZOFFSETTO:-0700
TZNAME:PDT
DTSTART:20250309T100000
END:DAYLIGHT
BEGIN:STANDARD
TZOFFSETFROM:-0700
TZOFFSETTO:-0800
TZNAME:PST
DTSTART:20251102T090000
END:STANDARD
END:VTIMEZONE
BEGIN:VEVENT
DTSTART;TZID=America/Los_Angeles:20240619T180000
DTEND;TZID=America/Los_Angeles:20240619T200000
DTSTAMP:20260420T111015
CREATED:20240520T162537Z
LAST-MODIFIED:20240520T162537Z
UID:10001026-1718820000-1718827200@www.cityofsoledad.com
SUMMARY:Regular City Council Meeting
DESCRIPTION:THE PUBLIC IS HEREBY NOTICED THAT THE SOLEDAD POLICE DEPARTMENT WILL CONDUCT ITS PUBLIC ENGAGEMENT MEETING DURING THE COURSE OF THE REGULAR SOLEDAD CITY COUNCIL MEETING ON JUNE 19\, 2024\, AT 6:00\, CITY COUNCIL CHAMBERS\, 248 MAIN STREET\, SOLEDAD\, CA 93960 \n  \nAB 481 MILITARY EQUIPMENT ANNUAL REPORT 2023
URL:https://www.cityofsoledad.com/event/regular-city-council-meeting-31-2/
LOCATION:Soledad City Hall\, 248 Main Street\, Soledad\, CA\, 93960
CATEGORIES:City Council,City Hall
END:VEVENT
END:VCALENDAR