BEGIN:VCALENDAR
VERSION:2.0
PRODID:-//City of Soledad - ECPv6.15.20//NONSGML v1.0//EN
CALSCALE:GREGORIAN
METHOD:PUBLISH
X-WR-CALNAME:City of Soledad
X-ORIGINAL-URL:https://www.cityofsoledad.com
X-WR-CALDESC:Events for City of Soledad
REFRESH-INTERVAL;VALUE=DURATION:PT1H
X-Robots-Tag:noindex
X-PUBLISHED-TTL:PT1H
BEGIN:VTIMEZONE
TZID:America/Los_Angeles
BEGIN:DAYLIGHT
TZOFFSETFROM:-0800
TZOFFSETTO:-0700
TZNAME:PDT
DTSTART:20230312T100000
END:DAYLIGHT
BEGIN:STANDARD
TZOFFSETFROM:-0700
TZOFFSETTO:-0800
TZNAME:PST
DTSTART:20231105T090000
END:STANDARD
BEGIN:DAYLIGHT
TZOFFSETFROM:-0800
TZOFFSETTO:-0700
TZNAME:PDT
DTSTART:20240310T100000
END:DAYLIGHT
BEGIN:STANDARD
TZOFFSETFROM:-0700
TZOFFSETTO:-0800
TZNAME:PST
DTSTART:20241103T090000
END:STANDARD
BEGIN:DAYLIGHT
TZOFFSETFROM:-0800
TZOFFSETTO:-0700
TZNAME:PDT
DTSTART:20250309T100000
END:DAYLIGHT
BEGIN:STANDARD
TZOFFSETFROM:-0700
TZOFFSETTO:-0800
TZNAME:PST
DTSTART:20251102T090000
END:STANDARD
END:VTIMEZONE
BEGIN:VEVENT
DTSTART;TZID=America/Los_Angeles:20240911T080000
DTEND;TZID=America/Los_Angeles:20240911T090000
DTSTAMP:20260419T220947
CREATED:20240906T180229Z
LAST-MODIFIED:20240906T180542Z
UID:10001188-1726041600-1726045200@www.cityofsoledad.com
SUMMARY:Patriot Day
DESCRIPTION:The City of Soledad\, the Soledad Fire Department\, and the Soledad Police Department invite you to our Patriot’s Day ceremony next Wednesday\, September 11 at 8 am at City Hal
URL:https://www.cityofsoledad.com/event/patriot-day/
LOCATION:Soledad City Hall\, 248 Main Street\, Soledad\, CA\, 93960
ATTACH;FMTTYPE=image/jpeg:https://www.cityofsoledad.com/wp-content/uploads/2024/09/01-may-2022-4-scaled.jpg
END:VEVENT
END:VCALENDAR