BEGIN:VCALENDAR
VERSION:2.0
PRODID:-//City of Soledad - ECPv6.15.20//NONSGML v1.0//EN
CALSCALE:GREGORIAN
METHOD:PUBLISH
X-ORIGINAL-URL:https://www.cityofsoledad.com
X-WR-CALDESC:Events for City of Soledad
REFRESH-INTERVAL;VALUE=DURATION:PT1H
X-Robots-Tag:noindex
X-PUBLISHED-TTL:PT1H
BEGIN:VTIMEZONE
TZID:America/Los_Angeles
BEGIN:DAYLIGHT
TZOFFSETFROM:-0800
TZOFFSETTO:-0700
TZNAME:PDT
DTSTART:20230312T100000
END:DAYLIGHT
BEGIN:STANDARD
TZOFFSETFROM:-0700
TZOFFSETTO:-0800
TZNAME:PST
DTSTART:20231105T090000
END:STANDARD
BEGIN:DAYLIGHT
TZOFFSETFROM:-0800
TZOFFSETTO:-0700
TZNAME:PDT
DTSTART:20240310T100000
END:DAYLIGHT
BEGIN:STANDARD
TZOFFSETFROM:-0700
TZOFFSETTO:-0800
TZNAME:PST
DTSTART:20241103T090000
END:STANDARD
BEGIN:DAYLIGHT
TZOFFSETFROM:-0800
TZOFFSETTO:-0700
TZNAME:PDT
DTSTART:20250309T100000
END:DAYLIGHT
BEGIN:STANDARD
TZOFFSETFROM:-0700
TZOFFSETTO:-0800
TZNAME:PST
DTSTART:20251102T090000
END:STANDARD
END:VTIMEZONE
BEGIN:VEVENT
DTSTART;TZID=America/Los_Angeles:20241003T173000
DTEND;TZID=America/Los_Angeles:20241003T193000
DTSTAMP:20260420T223731
CREATED:20240904T180227Z
LAST-MODIFIED:20240904T183935Z
UID:10001186-1727976600-1727983800@www.cityofsoledad.com
SUMMARY:General Plan Community Workshop
DESCRIPTION:  \n  \n  \n  \n  \n  \n  \nSoledad Community Center Large Multipurpose Room \n\n\nOctober 3rd\, 2024 5:30pm-7:30pm \n\n\nFree to the public \n\n\nChildcare and Food will be provided \n\n\nNarrative: Complimentary childcare and food will be available! During this workshop\, you’ll have the opportunity to share your thoughts on what you’d like to see in your city. Should Soledad focus on building more single-family homes or townhouses? Would you prefer more commercial centers? Are additional biking lanes important to you? Your feedback is essential in shaping the future! Don’t forget\, this event is free\, and childcare is provided! All participants will be entered into a raffle!
URL:https://www.cityofsoledad.com/event/general-plan-community-workshop/
LOCATION:Soledad Community Center\, 560 Walker Drive\, Soledad\, CA\, 93960\, United States
END:VEVENT
END:VCALENDAR