BEGIN:VCALENDAR
VERSION:2.0
PRODID:-//City of Soledad - ECPv6.15.20//NONSGML v1.0//EN
CALSCALE:GREGORIAN
METHOD:PUBLISH
X-WR-CALNAME:City of Soledad
X-ORIGINAL-URL:https://www.cityofsoledad.com
X-WR-CALDESC:Events for City of Soledad
REFRESH-INTERVAL;VALUE=DURATION:PT1H
X-Robots-Tag:noindex
X-PUBLISHED-TTL:PT1H
BEGIN:VTIMEZONE
TZID:America/Los_Angeles
BEGIN:DAYLIGHT
TZOFFSETFROM:-0800
TZOFFSETTO:-0700
TZNAME:PDT
DTSTART:20220313T100000
END:DAYLIGHT
BEGIN:STANDARD
TZOFFSETFROM:-0700
TZOFFSETTO:-0800
TZNAME:PST
DTSTART:20221106T090000
END:STANDARD
BEGIN:DAYLIGHT
TZOFFSETFROM:-0800
TZOFFSETTO:-0700
TZNAME:PDT
DTSTART:20230312T100000
END:DAYLIGHT
BEGIN:STANDARD
TZOFFSETFROM:-0700
TZOFFSETTO:-0800
TZNAME:PST
DTSTART:20231105T090000
END:STANDARD
BEGIN:DAYLIGHT
TZOFFSETFROM:-0800
TZOFFSETTO:-0700
TZNAME:PDT
DTSTART:20240310T100000
END:DAYLIGHT
BEGIN:STANDARD
TZOFFSETFROM:-0700
TZOFFSETTO:-0800
TZNAME:PST
DTSTART:20241103T090000
END:STANDARD
END:VTIMEZONE
BEGIN:VEVENT
DTSTART;TZID=America/Los_Angeles:20230204T100000
DTEND;TZID=America/Los_Angeles:20230204T110000
DTSTAMP:20260423T023539
CREATED:20230123T174528Z
LAST-MODIFIED:20230123T174831Z
UID:10000741-1675504800-1675508400@www.cityofsoledad.com
SUMMARY:Junior Sports Academy
DESCRIPTION:Register your little ones for our next session of Junior Sports Academy! They will learn the basics of different sports such as kicking\, throwing\, and catching.\n\n\nhttps://secure.rec1.com/CA/soledad-ca/catalog?filter=c2VhcmNoPTIzNDM4OTc=\n\n\nRegistra a tus pequeños para nuestra próxima sesión de Academia de deportes juveniles! Aprenderán los conceptos básicos de diferentes deportes como patear\, lanzar y atrapar.
URL:https://www.cityofsoledad.com/event/junior-sports-academy/2023-02-04/
LOCATION:Soledad Community Center\, 560 Walker Drive\, Soledad\, CA\, 93960\, United States
CATEGORIES:Community Center
ATTACH;FMTTYPE=image/png:https://www.cityofsoledad.com/wp-content/uploads/2023/01/Junior-Sport.png
END:VEVENT
BEGIN:VEVENT
DTSTART;TZID=America/Los_Angeles:20230208T173000
DTEND;TZID=America/Los_Angeles:20230208T190000
DTSTAMP:20260423T023539
CREATED:20230131T165932Z
LAST-MODIFIED:20230131T173149Z
UID:10000757-1675877400-1675882800@www.cityofsoledad.com
SUMMARY:Coalition of Homeless Service Providers & City of Soledad
DESCRIPTION:The city of Soledad is working with Continuum of Care (the Coalition of Homeless Services Providers) in building a local strategic plan to reduce homelessness\, based on the regional 5 Year Lead me Home Plan. we want to hear from you about this important issue.
URL:https://www.cityofsoledad.com/event/coalition-of-homeless-service-providers-city-of-soledad/
LOCATION:Soledad Community Center\, 560 Walker Drive\, Soledad\, CA\, 93960\, United States
CATEGORIES:Community Center
ATTACH;FMTTYPE=image/png:https://www.cityofsoledad.com/wp-content/uploads/2023/01/HOMELESS-1.31.23.png
END:VEVENT
BEGIN:VEVENT
DTSTART;TZID=America/Los_Angeles:20230211T100000
DTEND;TZID=America/Los_Angeles:20230211T110000
DTSTAMP:20260423T023539
CREATED:20230123T174528Z
LAST-MODIFIED:20230123T174831Z
UID:10000742-1676109600-1676113200@www.cityofsoledad.com
SUMMARY:Junior Sports Academy
DESCRIPTION:Register your little ones for our next session of Junior Sports Academy! They will learn the basics of different sports such as kicking\, throwing\, and catching.\n\n\nhttps://secure.rec1.com/CA/soledad-ca/catalog?filter=c2VhcmNoPTIzNDM4OTc=\n\n\nRegistra a tus pequeños para nuestra próxima sesión de Academia de deportes juveniles! Aprenderán los conceptos básicos de diferentes deportes como patear\, lanzar y atrapar.
URL:https://www.cityofsoledad.com/event/junior-sports-academy/2023-02-11/
LOCATION:Soledad Community Center\, 560 Walker Drive\, Soledad\, CA\, 93960\, United States
CATEGORIES:Community Center
ATTACH;FMTTYPE=image/png:https://www.cityofsoledad.com/wp-content/uploads/2023/01/Junior-Sport.png
END:VEVENT
BEGIN:VEVENT
DTSTART;TZID=America/Los_Angeles:20230217T173000
DTEND;TZID=America/Los_Angeles:20230217T190000
DTSTAMP:20260423T023539
CREATED:20230207T185057Z
LAST-MODIFIED:20230207T220836Z
UID:10000760-1676655000-1676660400@www.cityofsoledad.com
SUMMARY:City Manager In-Person Community Input Session
DESCRIPTION:The City is seeking community input for our new city manager! We will have two sessions one in person and one virtual.\nDates and link below:\n\n\n\nIn Person: February 17\, 2023 • 5:30pm – 7pm\nSoledad Community Center\n560 Walker Drive\, Soledad
URL:https://www.cityofsoledad.com/event/city-manager-community-input-session/
LOCATION:Soledad Community Center\, 560 Walker Drive\, Soledad\, CA\, 93960\, United States
CATEGORIES:Community Center
ATTACH;FMTTYPE=image/png:https://www.cityofsoledad.com/wp-content/uploads/2023/02/city-manager-info.png
END:VEVENT
BEGIN:VEVENT
DTSTART;TZID=America/Los_Angeles:20230218T100000
DTEND;TZID=America/Los_Angeles:20230218T110000
DTSTAMP:20260423T023539
CREATED:20230123T174528Z
LAST-MODIFIED:20230123T174831Z
UID:10000743-1676714400-1676718000@www.cityofsoledad.com
SUMMARY:Junior Sports Academy
DESCRIPTION:Register your little ones for our next session of Junior Sports Academy! They will learn the basics of different sports such as kicking\, throwing\, and catching.\n\n\nhttps://secure.rec1.com/CA/soledad-ca/catalog?filter=c2VhcmNoPTIzNDM4OTc=\n\n\nRegistra a tus pequeños para nuestra próxima sesión de Academia de deportes juveniles! Aprenderán los conceptos básicos de diferentes deportes como patear\, lanzar y atrapar.
URL:https://www.cityofsoledad.com/event/junior-sports-academy/2023-02-18/
LOCATION:Soledad Community Center\, 560 Walker Drive\, Soledad\, CA\, 93960\, United States
CATEGORIES:Community Center
ATTACH;FMTTYPE=image/png:https://www.cityofsoledad.com/wp-content/uploads/2023/01/Junior-Sport.png
END:VEVENT
BEGIN:VEVENT
DTSTART;TZID=America/Los_Angeles:20230221T170000
DTEND;TZID=America/Los_Angeles:20230221T193000
DTSTAMP:20260423T023539
CREATED:20230131T164937Z
LAST-MODIFIED:20230207T185713Z
UID:10000756-1676998800-1677007800@www.cityofsoledad.com
SUMMARY:State of the City Address
DESCRIPTION:Please join us for our 2023 State of the City Address on February 21at 5:30pm at the Soledad Community Center. We will go over the Cities Financial updates\, completed projects and future investments to our community.\n\n\nPlease RSVP here: https://tinyurl.com/wb9suzd4\n\n\n\nAcompáñenos para nuestro discurso sobre el Estado de la Ciudad 2023 el 21 de febrero a las 5:30 pm en el Centro Comunitario de Soledad. Repasaremos las actualizaciones financieras de la Cuidad\, los proyectos completados y las inversiones futuras para nuestra comunidad.\n\n\nPor favor confirme su asistencia aquí: https://tinyurl.com/wb9suzd4
URL:https://www.cityofsoledad.com/event/state-of-the-city-address-2/
LOCATION:Soledad Community Center\, 560 Walker Drive\, Soledad\, CA\, 93960\, United States
CATEGORIES:Community Center
ATTACH;FMTTYPE=image/jpeg:https://www.cityofsoledad.com/wp-content/uploads/2023/01/1-1-scaled.jpg
END:VEVENT
BEGIN:VEVENT
DTSTART;TZID=America/Los_Angeles:20230225T100000
DTEND;TZID=America/Los_Angeles:20230225T110000
DTSTAMP:20260423T023539
CREATED:20230123T174528Z
LAST-MODIFIED:20230123T174831Z
UID:10000744-1677319200-1677322800@www.cityofsoledad.com
SUMMARY:Junior Sports Academy
DESCRIPTION:Register your little ones for our next session of Junior Sports Academy! They will learn the basics of different sports such as kicking\, throwing\, and catching.\n\n\nhttps://secure.rec1.com/CA/soledad-ca/catalog?filter=c2VhcmNoPTIzNDM4OTc=\n\n\nRegistra a tus pequeños para nuestra próxima sesión de Academia de deportes juveniles! Aprenderán los conceptos básicos de diferentes deportes como patear\, lanzar y atrapar.
URL:https://www.cityofsoledad.com/event/junior-sports-academy/2023-02-25/
LOCATION:Soledad Community Center\, 560 Walker Drive\, Soledad\, CA\, 93960\, United States
CATEGORIES:Community Center
ATTACH;FMTTYPE=image/png:https://www.cityofsoledad.com/wp-content/uploads/2023/01/Junior-Sport.png
END:VEVENT
END:VCALENDAR