BEGIN:VCALENDAR
VERSION:2.0
PRODID:-//City of Soledad - ECPv6.15.20//NONSGML v1.0//EN
CALSCALE:GREGORIAN
METHOD:PUBLISH
X-ORIGINAL-URL:https://www.cityofsoledad.com
X-WR-CALDESC:Events for City of Soledad
REFRESH-INTERVAL;VALUE=DURATION:PT1H
X-Robots-Tag:noindex
X-PUBLISHED-TTL:PT1H
BEGIN:VTIMEZONE
TZID:UTC
BEGIN:STANDARD
TZOFFSETFROM:+0000
TZOFFSETTO:+0000
TZNAME:UTC
DTSTART:20210101T000000
END:STANDARD
END:VTIMEZONE
BEGIN:VEVENT
DTSTART;TZID=UTC:20220308T110000
DTEND;TZID=UTC:20220308T130000
DTSTAMP:20260420T130011
CREATED:20220224T073040Z
LAST-MODIFIED:20220224T073040Z
UID:10000427-1646737200-1646744400@www.cityofsoledad.com
SUMMARY:South County Senior Social
DESCRIPTION:Soledad Parks & Recreation will be hosting a South County Senior Social. \nJoin us for a free lunch! \nEvery 2nd Tuesday of the Month\, this one will be taking place on March 8th from 11 a.m. – 1:00 p.m. \nRegister early!
URL:https://www.cityofsoledad.com/event/south-county-senior-social/
LOCATION:Soledad Community Center\, 560 Walker Drive\, Soledad\, CA\, 93960\, United States
CATEGORIES:Community Center,Event
ATTACH;FMTTYPE=image/png:https://www.cityofsoledad.com/wp-content/uploads/2022/02/Comm-Centr-Logo.png
END:VEVENT
END:VCALENDAR