BEGIN:VCALENDAR
VERSION:2.0
PRODID:-//City of Soledad - ECPv6.15.20//NONSGML v1.0//EN
CALSCALE:GREGORIAN
METHOD:PUBLISH
X-ORIGINAL-URL:https://www.cityofsoledad.com
X-WR-CALDESC:Events for City of Soledad
REFRESH-INTERVAL;VALUE=DURATION:PT1H
X-Robots-Tag:noindex
X-PUBLISHED-TTL:PT1H
BEGIN:VTIMEZONE
TZID:UTC
BEGIN:STANDARD
TZOFFSETFROM:+0000
TZOFFSETTO:+0000
TZNAME:UTC
DTSTART:20210101T000000
END:STANDARD
END:VTIMEZONE
BEGIN:VEVENT
DTSTART;TZID=UTC:20220315T173000
DTEND;TZID=UTC:20220315T190000
DTSTAMP:20260419T091211
CREATED:20220224T073322Z
LAST-MODIFIED:20220224T073322Z
UID:10000428-1647365400-1647370800@www.cityofsoledad.com
SUMMARY:BINGO! Tuesdays
DESCRIPTION:BINGO! Tuesdays take place on the third Tuesday of the Month\, this one will be on March 15 from 5:30 p.m. – 7:00 p.m. at the Soledad Community Center \nCost: $5.00 \nAges: 18+
URL:https://www.cityofsoledad.com/event/bingo-tuesdays/
LOCATION:Soledad Community Center\, 560 Walker Drive\, Soledad\, CA\, 93960\, United States
CATEGORIES:Community Center,Event
ATTACH;FMTTYPE=image/png:https://www.cityofsoledad.com/wp-content/uploads/2022/02/Comm-Centr-Logo.png
END:VEVENT
END:VCALENDAR