BEGIN:VCALENDAR
VERSION:2.0
PRODID:-//City of Soledad - ECPv6.15.20//NONSGML v1.0//EN
CALSCALE:GREGORIAN
METHOD:PUBLISH
X-ORIGINAL-URL:https://www.cityofsoledad.com
X-WR-CALDESC:Events for City of Soledad
REFRESH-INTERVAL;VALUE=DURATION:PT1H
X-Robots-Tag:noindex
X-PUBLISHED-TTL:PT1H
BEGIN:VTIMEZONE
TZID:America/Los_Angeles
BEGIN:DAYLIGHT
TZOFFSETFROM:-0800
TZOFFSETTO:-0700
TZNAME:PDT
DTSTART:20220313T100000
END:DAYLIGHT
BEGIN:STANDARD
TZOFFSETFROM:-0700
TZOFFSETTO:-0800
TZNAME:PST
DTSTART:20221106T090000
END:STANDARD
BEGIN:DAYLIGHT
TZOFFSETFROM:-0800
TZOFFSETTO:-0700
TZNAME:PDT
DTSTART:20230312T100000
END:DAYLIGHT
BEGIN:STANDARD
TZOFFSETFROM:-0700
TZOFFSETTO:-0800
TZNAME:PST
DTSTART:20231105T090000
END:STANDARD
BEGIN:DAYLIGHT
TZOFFSETFROM:-0800
TZOFFSETTO:-0700
TZNAME:PDT
DTSTART:20240310T100000
END:DAYLIGHT
BEGIN:STANDARD
TZOFFSETFROM:-0700
TZOFFSETTO:-0800
TZNAME:PST
DTSTART:20241103T090000
END:STANDARD
END:VTIMEZONE
BEGIN:VEVENT
DTSTART;TZID=America/Los_Angeles:20230708T110000
DTEND;TZID=America/Los_Angeles:20230708T180000
DTSTAMP:20260419T191152
CREATED:20230407T135550Z
LAST-MODIFIED:20230407T135800Z
UID:10000772-1688814000-1688839200@www.cityofsoledad.com
SUMMARY:Soledad Hot Summer Days
DESCRIPTION:2nd Annual Downtown Car Show & Street Festival \nAwards in All Categories \n-Multiple DJ’s \n-Live Entertainment \n-50/50 Raffle \n-Food Trucks and Vendors \nVehicles are 35$
URL:https://www.cityofsoledad.com/event/soledad-hot-summer-days/
LOCATION:CA
CATEGORIES:Event
ATTACH;FMTTYPE=image/png:https://www.cityofsoledad.com/wp-content/uploads/2023/04/Car-show2023.png
END:VEVENT
BEGIN:VEVENT
DTSTART;TZID=America/Los_Angeles:20230719T180000
DTEND;TZID=America/Los_Angeles:20230719T220000
DTSTAMP:20260419T191152
CREATED:20230522T205114Z
LAST-MODIFIED:20230713T195727Z
UID:10000796-1689789600-1689804000@www.cityofsoledad.com
SUMMARY:Regular City Council Meeting
DESCRIPTION:The public meeting will open at 6:00pm and after taking public comment for closed session items\, the Council will immediately recess to closed session. The regular public open meeting will begin at 6:30pm\, or as soon thereafter as the Closed Session is concluded\, and any reportable action taken during the Closed Session will be reported out at that time. You may participate in-person or virtually via Zoom and Facebook. \n  \nThe agenda\, Zoom link\, and information about how to make a public comment can all be found here: https://www.cityofsoledad.com/public-meetings/
URL:https://www.cityofsoledad.com/event/regular-city-council-meeting-ch/
LOCATION:Soledad City Hall\, 248 Main Street\, Soledad\, CA\, 93960
CATEGORIES:City Council
END:VEVENT
BEGIN:VEVENT
DTSTART;TZID=America/Los_Angeles:20230727T080000
DTEND;TZID=America/Los_Angeles:20230727T100000
DTSTAMP:20260419T191152
CREATED:20230725T221522Z
LAST-MODIFIED:20230725T221523Z
UID:10000751-1690444800-1690452000@www.cityofsoledad.com
SUMMARY:[CANCELED] Coffee and Conversation with Economic Development
DESCRIPTION:We would like to invite local Soledad businesses for coffee and a conversation with our Economic Development team \nThis will be on the last Thursday of every month at 8:00 a.m. in the Council Chambers at Soledad City Hall \nFor questions\, please call 831-223-5016 or email tvargas@cityofsoledad.com
URL:https://www.cityofsoledad.com/event/coffee-and-conversation-with-economic-development-3-2/
LOCATION:Soledad City Hall\, 248 Main Street\, Soledad\, CA\, 93960
CATEGORIES:City Hall
ATTACH;FMTTYPE=image/png:https://www.cityofsoledad.com/wp-content/uploads/2022/11/Soledad-logo-with-tag-1-300x262-1.png
END:VEVENT
END:VCALENDAR