BEGIN:VCALENDAR
VERSION:2.0
PRODID:-//City of Soledad - ECPv6.15.20//NONSGML v1.0//EN
CALSCALE:GREGORIAN
METHOD:PUBLISH
X-WR-CALNAME:City of Soledad
X-ORIGINAL-URL:https://www.cityofsoledad.com
X-WR-CALDESC:Events for City of Soledad
REFRESH-INTERVAL;VALUE=DURATION:PT1H
X-Robots-Tag:noindex
X-PUBLISHED-TTL:PT1H
BEGIN:VTIMEZONE
TZID:America/Los_Angeles
BEGIN:DAYLIGHT
TZOFFSETFROM:-0800
TZOFFSETTO:-0700
TZNAME:PDT
DTSTART:20230312T100000
END:DAYLIGHT
BEGIN:STANDARD
TZOFFSETFROM:-0700
TZOFFSETTO:-0800
TZNAME:PST
DTSTART:20231105T090000
END:STANDARD
BEGIN:DAYLIGHT
TZOFFSETFROM:-0800
TZOFFSETTO:-0700
TZNAME:PDT
DTSTART:20240310T100000
END:DAYLIGHT
BEGIN:STANDARD
TZOFFSETFROM:-0700
TZOFFSETTO:-0800
TZNAME:PST
DTSTART:20241103T090000
END:STANDARD
BEGIN:DAYLIGHT
TZOFFSETFROM:-0800
TZOFFSETTO:-0700
TZNAME:PDT
DTSTART:20250309T100000
END:DAYLIGHT
BEGIN:STANDARD
TZOFFSETFROM:-0700
TZOFFSETTO:-0800
TZNAME:PST
DTSTART:20251102T090000
END:STANDARD
END:VTIMEZONE
BEGIN:VEVENT
DTSTART;TZID=America/Los_Angeles:20240207T180000
DTEND;TZID=America/Los_Angeles:20240207T200000
DTSTAMP:20260422T031051
CREATED:20240118T160658Z
LAST-MODIFIED:20240207T191344Z
UID:10000898-1707328800-1707336000@www.cityofsoledad.com
SUMMARY:CANCELLED - Regular City Council Meeting
DESCRIPTION:February 7\, 2024 at 6:00 pm \n  \nNotice of Cancellation – City Council 2/7/24
URL:https://www.cityofsoledad.com/event/regular-city-council-meeting-25/
LOCATION:Soledad City Hall\, 248 Main Street\, Soledad\, CA\, 93960
END:VEVENT
BEGIN:VEVENT
DTSTART;TZID=America/Los_Angeles:20240208T180000
DTEND;TZID=America/Los_Angeles:20240208T200000
DTSTAMP:20260422T031051
CREATED:20240207T220925Z
LAST-MODIFIED:20240207T220927Z
UID:10000834-1707415200-1707422400@www.cityofsoledad.com
SUMMARY:CANCELLED - Regular Planning Commission Meeting
DESCRIPTION:
URL:https://www.cityofsoledad.com/event/regular-planning-commission-meeting-6-2/
LOCATION:Soledad City Hall\, 248 Main Street\, Soledad\, CA\, 93960
END:VEVENT
BEGIN:VEVENT
DTSTART;TZID=America/Los_Angeles:20240212T180000
DTEND;TZID=America/Los_Angeles:20240212T200000
DTSTAMP:20260422T031051
CREATED:20240207T221319Z
LAST-MODIFIED:20240207T221319Z
UID:10001146-1707760800-1707768000@www.cityofsoledad.com
SUMMARY:General Plan Advisory Committee (GPAC) Meeting 02.12.24
DESCRIPTION:
URL:https://www.cityofsoledad.com/event/general-plan-advisory-committee-gpac-meeting-02-12-24/
LOCATION:Soledad City Hall\, 248 Main Street\, Soledad\, CA\, 93960
END:VEVENT
BEGIN:VEVENT
DTSTART;TZID=America/Los_Angeles:20240214T170000
DTEND;TZID=America/Los_Angeles:20240214T183000
DTSTAMP:20260422T031051
CREATED:20240209T000421Z
LAST-MODIFIED:20240209T000421Z
UID:10001147-1707930000-1707935400@www.cityofsoledad.com
SUMMARY:Valentine's Day Paint Night
DESCRIPTION:Love is in the air\, and what better gift for your significant other\, friend\, or family member than a Valentine’s Day painting? This will be a fun\, artistic activity fit for the whole family. Beverages and snacks are included. \nDate: February 14 \nTime: 5-6:50 pm \nCost: $25 \nRegistration Open: Catalog – Soledad Parks & Recreation\, CA (rec1.com)
URL:https://www.cityofsoledad.com/event/valentines-day-paint-night/
LOCATION:CA
ATTACH;FMTTYPE=image/png:https://www.cityofsoledad.com/wp-content/uploads/2024/02/Valentines-Day.png
END:VEVENT
BEGIN:VEVENT
DTSTART;VALUE=DATE:20240219
DTEND;VALUE=DATE:20240220
DTSTAMP:20260422T031051
CREATED:20240118T032236Z
LAST-MODIFIED:20240118T044313Z
UID:10000894-1708300800-1708387199@www.cityofsoledad.com
SUMMARY:City Hall Closed - President's Day 2024
DESCRIPTION:City Hall will be closed on 2/19/2024 due to President’s Day. \nWe will reopen on Monday.
URL:https://www.cityofsoledad.com/event/city-hall-closed-presidents-day-2024/
LOCATION:Soledad City Hall\, 248 Main Street\, Soledad\, CA\, 93960
CATEGORIES:City Hall
ATTACH;FMTTYPE=image/jpeg:https://www.cityofsoledad.com/wp-content/uploads/2023/07/pexels-brett-sayles-1046398-scaled.jpg
END:VEVENT
BEGIN:VEVENT
DTSTART;TZID=America/Los_Angeles:20240221T180000
DTEND;TZID=America/Los_Angeles:20240221T200000
DTSTAMP:20260422T031051
CREATED:20240118T162656Z
LAST-MODIFIED:20240118T162717Z
UID:10000961-1708538400-1708545600@www.cityofsoledad.com
SUMMARY:Regular City Council Meeting
DESCRIPTION:February 21\, 2024\, at 6:00 pm
URL:https://www.cityofsoledad.com/event/regular-city-council-meeting-26/
LOCATION:Soledad City Hall\, 248 Main Street\, Soledad\, CA\, 93960
CATEGORIES:City Council
END:VEVENT
BEGIN:VEVENT
DTSTART;TZID=America/Los_Angeles:20240222T180000
DTEND;TZID=America/Los_Angeles:20240222T200000
DTSTAMP:20260422T031051
CREATED:20240222T215103Z
LAST-MODIFIED:20240222T215103Z
UID:10001152-1708624800-1708632000@www.cityofsoledad.com
SUMMARY:Special Planning Commission Meeting
DESCRIPTION:
URL:https://www.cityofsoledad.com/event/special-planning-commission-meeting-2/
LOCATION:Soledad City Hall\, 248 Main Street\, Soledad\, CA\, 93960
END:VEVENT
BEGIN:VEVENT
DTSTART;TZID=America/Los_Angeles:20240226T173000
DTEND;TZID=America/Los_Angeles:20240226T193000
DTSTAMP:20260422T031051
CREATED:20240221T171254Z
LAST-MODIFIED:20240221T171254Z
UID:10001150-1708968600-1708975800@www.cityofsoledad.com
SUMMARY:Las Viviendas Affordable Housing Workshop
DESCRIPTION:¿Sabías que Soledad tiene casas asequibles en venta? Acompáñanos al Taller de Vivienda Asequible\, conozce los requisitos del programa\, recibe asesoramiento de expertos y las llaves para hacer de la casa de tus sueños una realidad. \nDid you know that Soledad has affordable homes for sale? Join our Affordable Housing Workshop learn the program requirements\, receive expert advice\, and the keys to making your dream home a budget-friendly reality. 
URL:https://www.cityofsoledad.com/event/las-viviendas-affordable-housing-workshop/
LOCATION:Soledad Community Center\, 560 Walker Drive\, Soledad\, CA\, 93960\, United States
CATEGORIES:Community Center
ATTACH;FMTTYPE=image/jpeg:https://www.cityofsoledad.com/wp-content/uploads/2024/02/IMG_2274.jpg
END:VEVENT
BEGIN:VEVENT
DTSTART;TZID=America/Los_Angeles:20240228T170000
DTEND;TZID=America/Los_Angeles:20240228T193000
DTSTAMP:20260422T031051
CREATED:20240221T172007Z
LAST-MODIFIED:20240221T202911Z
UID:10001151-1709139600-1709148600@www.cityofsoledad.com
SUMMARY:State of the City
DESCRIPTION:Join the City of Soledad as we celebrate diversity and build unity with the State of the City. Doors open at 5 pm where you will have an opportunity to learn about our latests projects. \nAcompañe a la Ciudad de Soledad para celebrar nuestra diversidad y creamos unidad con el estado de la ciudad. Las puertas abren a las 5 pm y tendrán la oportunidad de aprender sobre nuestros proyectos.
URL:https://www.cityofsoledad.com/event/state-of-the-city/
LOCATION:CA
CATEGORIES:Community Center
ATTACH;FMTTYPE=image/jpeg:https://www.cityofsoledad.com/wp-content/uploads/2024/02/State-of-the-City-2024.jpg
END:VEVENT
END:VCALENDAR