BEGIN:VCALENDAR
VERSION:2.0
PRODID:-//City of Soledad - ECPv6.15.20//NONSGML v1.0//EN
CALSCALE:GREGORIAN
METHOD:PUBLISH
X-ORIGINAL-URL:https://www.cityofsoledad.com
X-WR-CALDESC:Events for City of Soledad
REFRESH-INTERVAL;VALUE=DURATION:PT1H
X-Robots-Tag:noindex
X-PUBLISHED-TTL:PT1H
BEGIN:VTIMEZONE
TZID:America/Los_Angeles
BEGIN:DAYLIGHT
TZOFFSETFROM:-0800
TZOFFSETTO:-0700
TZNAME:PDT
DTSTART:20230312T100000
END:DAYLIGHT
BEGIN:STANDARD
TZOFFSETFROM:-0700
TZOFFSETTO:-0800
TZNAME:PST
DTSTART:20231105T090000
END:STANDARD
BEGIN:DAYLIGHT
TZOFFSETFROM:-0800
TZOFFSETTO:-0700
TZNAME:PDT
DTSTART:20240310T100000
END:DAYLIGHT
BEGIN:STANDARD
TZOFFSETFROM:-0700
TZOFFSETTO:-0800
TZNAME:PST
DTSTART:20241103T090000
END:STANDARD
BEGIN:DAYLIGHT
TZOFFSETFROM:-0800
TZOFFSETTO:-0700
TZNAME:PDT
DTSTART:20250309T100000
END:DAYLIGHT
BEGIN:STANDARD
TZOFFSETFROM:-0700
TZOFFSETTO:-0800
TZNAME:PST
DTSTART:20251102T090000
END:STANDARD
END:VTIMEZONE
BEGIN:VTIMEZONE
TZID:America/Los_Angeles
BEGIN:DAYLIGHT
TZOFFSETFROM:-0800
TZOFFSETTO:-0700
TZNAME:PDT
DTSTART:20230312T100000
END:DAYLIGHT
BEGIN:STANDARD
TZOFFSETFROM:-0700
TZOFFSETTO:-0800
TZNAME:PST
DTSTART:20231105T090000
END:STANDARD
BEGIN:DAYLIGHT
TZOFFSETFROM:-0800
TZOFFSETTO:-0700
TZNAME:PDT
DTSTART:20240310T100000
END:DAYLIGHT
BEGIN:STANDARD
TZOFFSETFROM:-0700
TZOFFSETTO:-0800
TZNAME:PST
DTSTART:20241103T090000
END:STANDARD
BEGIN:DAYLIGHT
TZOFFSETFROM:-0800
TZOFFSETTO:-0700
TZNAME:PDT
DTSTART:20250309T100000
END:DAYLIGHT
BEGIN:STANDARD
TZOFFSETFROM:-0700
TZOFFSETTO:-0800
TZNAME:PST
DTSTART:20251102T090000
END:STANDARD
END:VTIMEZONE
BEGIN:VEVENT
DTSTART;TZID=America/Los_Angeles:20240806T170000
DTEND;TZID=America/Los_Angeles:20240806T200000
DTSTAMP:20260419T134656
CREATED:20240620T194355Z
LAST-MODIFIED:20240620T195804Z
UID:10001177-1722963600-1722974400@www.cityofsoledad.com
SUMMARY:National Night Out 2024
DESCRIPTION:The Soledad Police Department invites you to National Night Out! \nWe will have agencies and resources. Don’t miss this free\, family-friendly event. There will be music and food\, and the CHP helicopter will make a special appearance. \nAugust 6\, 2024 \n5:00 – 8:00 pm \n560 Walker Drive. \nSoledad
URL:https://www.cityofsoledad.com/event/19863/
LOCATION:Soledad Community Center\, 560 Walker Drive\, Soledad\, CA\, 93960\, United States
ATTACH;FMTTYPE=image/jpeg:https://www.cityofsoledad.com/wp-content/uploads/2024/06/NNO-INVITE-7_Page_1.jpg
END:VEVENT
BEGIN:VEVENT
DTSTART;TZID=America/Los_Angeles:20240807T180000
DTEND;TZID=America/Los_Angeles:20240807T220000
DTSTAMP:20260419T134656
CREATED:20240710T220148Z
LAST-MODIFIED:20240710T220148Z
UID:10001178-1723053600-1723068000@www.cityofsoledad.com
SUMMARY:Regular City Council Meeting
DESCRIPTION:
URL:https://www.cityofsoledad.com/event/regular-city-council-meeting-33/
LOCATION:CA
CATEGORIES:City Council,City Hall
END:VEVENT
BEGIN:VEVENT
DTSTART;TZID=America/Los_Angeles:20240808T180000
DTEND;TZID=America/Los_Angeles:20240808T200000
DTSTAMP:20260419T134656
CREATED:20240118T013123Z
LAST-MODIFIED:20250129T193031Z
UID:10000840-1723140000-1723147200@www.cityofsoledad.com
SUMMARY:Regular Planning Commission Meeting
DESCRIPTION:
URL:https://www.cityofsoledad.com/event/regular-planning-commission-meeting-6/2024-08-08/
LOCATION:Soledad City Hall\, 248 Main Street\, Soledad\, CA\, 93960
END:VEVENT
BEGIN:VEVENT
DTSTART;TZID=America/Los_Angeles:20240819T100000
DTEND;TZID=America/Los_Angeles:20240819T120000
DTSTAMP:20260419T134656
CREATED:20240711T210705Z
LAST-MODIFIED:20240711T210705Z
UID:10001182-1724061600-1724068800@www.cityofsoledad.com
SUMMARY:Age Well Drive Smart Workshop
DESCRIPTION:Join the CHP for the Keys to Driving Safer and Driving Longer. This is a FREE Workshop to help older drivers continue to drive safely. RSVP Required – Call 831-233-3447 \nSoledad_AWDS-WorkshopAug24
URL:https://www.cityofsoledad.com/event/age-well-drive-smart-workshop/
LOCATION:Soledad Community Center\, 560 Walker Drive\, Soledad\, CA\, 93960\, United States
END:VEVENT
BEGIN:VEVENT
DTSTART;TZID=America/Los_Angeles:20240821T180000
DTEND;TZID=America/Los_Angeles:20240821T200000
DTSTAMP:20260419T134656
CREATED:20240118T163122Z
LAST-MODIFIED:20240118T163202Z
UID:10001028-1724263200-1724270400@www.cityofsoledad.com
SUMMARY:Regular City Council Meeting
DESCRIPTION:
URL:https://www.cityofsoledad.com/event/regular-city-council-meeting-31/2024-08-21/
LOCATION:Soledad City Hall\, 248 Main Street\, Soledad\, CA\, 93960
CATEGORIES:City Council,City Hall
END:VEVENT
BEGIN:VEVENT
DTSTART;TZID=America/Los_Angeles:20240830T073000
DTEND;TZID=America/Los_Angeles:20240830T080000
DTSTAMP:20260419T134656
CREATED:20240827T213410Z
LAST-MODIFIED:20240827T213410Z
UID:10001184-1725003000-1725004800@www.cityofsoledad.com
SUMMARY:City of Soledad to Raise POW/MIA Flag
DESCRIPTION:On Friday\, August 31st\, at 7:30 am\, the City of Soledad\, along with Veteran groups\, will host a ceremony to raise the POW/MIA Flag. The flag will remain flying for the entire month of September. \nPOW/MIA
URL:https://www.cityofsoledad.com/event/city-of-soledad-to-raise-pow-mia-flag/
LOCATION:Soledad City Hall\, 248 Main Street\, Soledad\, CA\, 93960
CATEGORIES:City Hall
ATTACH;FMTTYPE=image/jpeg:https://www.cityofsoledad.com/wp-content/uploads/2024/08/Join-the-City-of-Soledad-as-we-raise-the-Prisoner-of-WarMissing-In-Action-Flag-2-scaled.jpg
END:VEVENT
END:VCALENDAR