BEGIN:VCALENDAR
VERSION:2.0
PRODID:-//City of Soledad - ECPv6.15.20//NONSGML v1.0//EN
CALSCALE:GREGORIAN
METHOD:PUBLISH
X-WR-CALNAME:City of Soledad
X-ORIGINAL-URL:https://www.cityofsoledad.com
X-WR-CALDESC:Events for City of Soledad
REFRESH-INTERVAL;VALUE=DURATION:PT1H
X-Robots-Tag:noindex
X-PUBLISHED-TTL:PT1H
BEGIN:VTIMEZONE
TZID:America/Los_Angeles
BEGIN:DAYLIGHT
TZOFFSETFROM:-0800
TZOFFSETTO:-0700
TZNAME:PDT
DTSTART:20230312T100000
END:DAYLIGHT
BEGIN:STANDARD
TZOFFSETFROM:-0700
TZOFFSETTO:-0800
TZNAME:PST
DTSTART:20231105T090000
END:STANDARD
BEGIN:DAYLIGHT
TZOFFSETFROM:-0800
TZOFFSETTO:-0700
TZNAME:PDT
DTSTART:20240310T100000
END:DAYLIGHT
BEGIN:STANDARD
TZOFFSETFROM:-0700
TZOFFSETTO:-0800
TZNAME:PST
DTSTART:20241103T090000
END:STANDARD
BEGIN:DAYLIGHT
TZOFFSETFROM:-0800
TZOFFSETTO:-0700
TZNAME:PDT
DTSTART:20250309T100000
END:DAYLIGHT
BEGIN:STANDARD
TZOFFSETFROM:-0700
TZOFFSETTO:-0800
TZNAME:PST
DTSTART:20251102T090000
END:STANDARD
END:VTIMEZONE
BEGIN:VTIMEZONE
TZID:America/Los_Angeles
BEGIN:DAYLIGHT
TZOFFSETFROM:-0800
TZOFFSETTO:-0700
TZNAME:PDT
DTSTART:20230312T100000
END:DAYLIGHT
BEGIN:STANDARD
TZOFFSETFROM:-0700
TZOFFSETTO:-0800
TZNAME:PST
DTSTART:20231105T090000
END:STANDARD
BEGIN:DAYLIGHT
TZOFFSETFROM:-0800
TZOFFSETTO:-0700
TZNAME:PDT
DTSTART:20240310T100000
END:DAYLIGHT
BEGIN:STANDARD
TZOFFSETFROM:-0700
TZOFFSETTO:-0800
TZNAME:PST
DTSTART:20241103T090000
END:STANDARD
BEGIN:DAYLIGHT
TZOFFSETFROM:-0800
TZOFFSETTO:-0700
TZNAME:PDT
DTSTART:20250309T100000
END:DAYLIGHT
BEGIN:STANDARD
TZOFFSETFROM:-0700
TZOFFSETTO:-0800
TZNAME:PST
DTSTART:20251102T090000
END:STANDARD
END:VTIMEZONE
BEGIN:VTIMEZONE
TZID:UTC
BEGIN:STANDARD
TZOFFSETFROM:+0000
TZOFFSETTO:+0000
TZNAME:UTC
DTSTART:20230101T000000
END:STANDARD
END:VTIMEZONE
BEGIN:VEVENT
DTSTART;TZID=America/Los_Angeles:20241001T100000
DTEND;TZID=America/Los_Angeles:20241001T110000
DTSTAMP:20260420T174258
CREATED:20240923T224830Z
LAST-MODIFIED:20240923T224830Z
UID:10001195-1727776800-1727780400@www.cityofsoledad.com
SUMMARY:Coffee With a Cop
DESCRIPTION:Don’t miss this great opportunity to get to know the officers at Soledad Police Department. October 1st at 10 am.
URL:https://www.cityofsoledad.com/event/coffee-with-a-cop-2/
LOCATION:CA
ATTACH;FMTTYPE=image/jpeg:https://www.cityofsoledad.com/wp-content/uploads/2024/09/COFFEE-WITH-A-COP_Page_1.jpg
END:VEVENT
BEGIN:VEVENT
DTSTART;TZID=America/Los_Angeles:20241002T180000
DTEND;TZID=America/Los_Angeles:20241002T220000
DTSTAMP:20260420T174258
CREATED:20240710T220428Z
LAST-MODIFIED:20240710T220739Z
UID:10001180-1727892000-1727906400@www.cityofsoledad.com
SUMMARY:Regular City Council Meeting
DESCRIPTION:
URL:https://www.cityofsoledad.com/event/regular-city-council-meeting-35/
LOCATION:Soledad City Hall\, 248 Main Street\, Soledad\, CA\, 93960
CATEGORIES:City Council,City Hall
END:VEVENT
BEGIN:VEVENT
DTSTART;TZID=America/Los_Angeles:20241003T173000
DTEND;TZID=America/Los_Angeles:20241003T193000
DTSTAMP:20260420T174258
CREATED:20240904T180227Z
LAST-MODIFIED:20240904T183935Z
UID:10001186-1727976600-1727983800@www.cityofsoledad.com
SUMMARY:General Plan Community Workshop
DESCRIPTION:  \n  \n  \n  \n  \n  \n  \nSoledad Community Center Large Multipurpose Room \n\n\nOctober 3rd\, 2024 5:30pm-7:30pm \n\n\nFree to the public \n\n\nChildcare and Food will be provided \n\n\nNarrative: Complimentary childcare and food will be available! During this workshop\, you’ll have the opportunity to share your thoughts on what you’d like to see in your city. Should Soledad focus on building more single-family homes or townhouses? Would you prefer more commercial centers? Are additional biking lanes important to you? Your feedback is essential in shaping the future! Don’t forget\, this event is free\, and childcare is provided! All participants will be entered into a raffle!
URL:https://www.cityofsoledad.com/event/general-plan-community-workshop/
LOCATION:Soledad Community Center\, 560 Walker Drive\, Soledad\, CA\, 93960\, United States
END:VEVENT
BEGIN:VEVENT
DTSTART;TZID=America/Los_Angeles:20241005T090000
DTEND;TZID=America/Los_Angeles:20241005T100000
DTSTAMP:20260420T174258
CREATED:20240913T192207Z
LAST-MODIFIED:20240913T192504Z
UID:10001189-1728118800-1728122400@www.cityofsoledad.com
SUMMARY:Superhero Fall Festival
DESCRIPTION:Date & Time: October 5th\, 10am – 1pm\nLocation: Orchard Lane Park 1505 Metz Rd\, Soledad\, CA 93960\nAdmission: Free\n\n\nActivities: \n\nLIVE DJ music\nbackpack giveaway\nfestival games\nsuperhero costume contest\narts & crafts & more
URL:https://www.cityofsoledad.com/event/superhero-fall-festival/
LOCATION:Orchard Lane Park\, 300 Orchard Lane\, Soledad\, CA\, 93960\, United States
ATTACH;FMTTYPE=image/png:https://www.cityofsoledad.com/wp-content/uploads/2024/09/Super-Hero_socials.png
END:VEVENT
BEGIN:VEVENT
DTSTART;TZID=America/Los_Angeles:20241010T180000
DTEND;TZID=America/Los_Angeles:20241010T200000
DTSTAMP:20260420T174258
CREATED:20240118T013123Z
LAST-MODIFIED:20250129T193031Z
UID:10000842-1728583200-1728590400@www.cityofsoledad.com
SUMMARY:Regular Planning Commission Meeting
DESCRIPTION:
URL:https://www.cityofsoledad.com/event/regular-planning-commission-meeting-6/2024-10-10/
LOCATION:Soledad City Hall\, 248 Main Street\, Soledad\, CA\, 93960
END:VEVENT
BEGIN:VEVENT
DTSTART;TZID=America/Los_Angeles:20241016T180000
DTEND;TZID=America/Los_Angeles:20241016T200000
DTSTAMP:20260420T174258
CREATED:20240118T163122Z
LAST-MODIFIED:20240118T163202Z
UID:10001030-1729101600-1729108800@www.cityofsoledad.com
SUMMARY:Regular City Council Meeting
DESCRIPTION:
URL:https://www.cityofsoledad.com/event/regular-city-council-meeting-31/2024-10-16/
LOCATION:Soledad City Hall\, 248 Main Street\, Soledad\, CA\, 93960
CATEGORIES:City Council,City Hall
END:VEVENT
BEGIN:VEVENT
DTSTART;TZID=America/Los_Angeles:20241025T180000
DTEND;TZID=America/Los_Angeles:20241025T210000
DTSTAMP:20260420T174258
CREATED:20240920T233409Z
LAST-MODIFIED:20240920T233852Z
UID:10001192-1729879200-1729890000@www.cityofsoledad.com
SUMMARY:Haunted House
DESCRIPTION:Date:10.25.2024     Time: 6pm – 9pm \nCost: Youth:$3   Adult:$4 \nWhere? 560 Walker Dr\, Soledad \nWant to be a scare actor? \nEmail us at recreation@cityofsoledad.gov and let us know that you want to be involved!
URL:https://www.cityofsoledad.com/event/haunted-house-soledad/
LOCATION:Soledad Community Center\, 560 Walker Drive\, Soledad\, CA\, 93960\, United States
ATTACH;FMTTYPE=image/png:https://www.cityofsoledad.com/wp-content/uploads/2024/09/Haunted-House.png
END:VEVENT
BEGIN:VEVENT
DTSTART;TZID=UTC:20241025T180000
DTEND;TZID=UTC:20241025T210000
DTSTAMP:20260420T174258
CREATED:20240920T235113Z
LAST-MODIFIED:20240921T000459Z
UID:10001194-1729879200-1729890000@www.cityofsoledad.com
SUMMARY:Halloween Teen Night
DESCRIPTION:Get ready for spooky season with our Halloween Teen Night!\n\nTeens who attend will get access to the Halloween Lounge with multiple activities\, like foosball\, karaoke\, Nintendo switch\, pool\, snack bar and more! Enter our costume contest for your chance to win a Dutch Bros gift card!\nPlus get access to the haunted house! Bring your friends and take part in the spooky selfie scavenger hunt!\nIf you register early you will get a FREE treat from the snack bar!\nRegister at the Soledad Community Center\, 560 Walker Dr or here Teen Night Registration
URL:https://www.cityofsoledad.com/event/teen-night/
LOCATION:Soledad Community Center\, 560 Walker Drive\, Soledad\, CA\, 93960\, United States
CATEGORIES:Community Center
ATTACH;FMTTYPE=image/png:https://www.cityofsoledad.com/wp-content/uploads/2024/09/Teen-Night-Real-Estate-Flyer.png
END:VEVENT
BEGIN:VEVENT
DTSTART;TZID=America/Los_Angeles:20241031T150000
DTEND;TZID=America/Los_Angeles:20241031T180000
DTSTAMP:20260420T174258
CREATED:20240919T175136Z
LAST-MODIFIED:20241012T003123Z
UID:10001191-1730386800-1730397600@www.cityofsoledad.com
SUMMARY:Spookfest & Trunk or Treat
DESCRIPTION:5th Annual Front Street Spookfest & Trunk or Treat and Spooky House Contest \nOctober 31st\, 2024 \n3:00 pm-6:00 pm Located at Cesar Chavez Park\, Soledad \nFree event for the community \nGames\, Contests\, Music\, Trunk or Treat & Festivities \nRegister to be part of Trunk or Treat!  Trunk or Treat Registration Link \nSpooky House Contest Registration: Enter your house outdoor Halloween decor to be judged! https://forms.gle/aUqqRrnJYSLhtmEW9
URL:https://www.cityofsoledad.com/event/spook-fest-2/
LOCATION:Cesar Chavez Park\, 555 Front St.\, Soledad\, CA\, 93960\, United States
ATTACH;FMTTYPE=application/pdf:https://www.cityofsoledad.com/wp-content/uploads/2024/09/spookfest-flyer-size.pdf
END:VEVENT
END:VCALENDAR