BEGIN:VCALENDAR
VERSION:2.0
PRODID:-//City of Soledad - ECPv6.15.20//NONSGML v1.0//EN
CALSCALE:GREGORIAN
METHOD:PUBLISH
X-ORIGINAL-URL:https://www.cityofsoledad.com
X-WR-CALDESC:Events for City of Soledad
REFRESH-INTERVAL;VALUE=DURATION:PT1H
X-Robots-Tag:noindex
X-PUBLISHED-TTL:PT1H
BEGIN:VTIMEZONE
TZID:America/Los_Angeles
BEGIN:DAYLIGHT
TZOFFSETFROM:-0800
TZOFFSETTO:-0700
TZNAME:PDT
DTSTART:20230312T100000
END:DAYLIGHT
BEGIN:STANDARD
TZOFFSETFROM:-0700
TZOFFSETTO:-0800
TZNAME:PST
DTSTART:20231105T090000
END:STANDARD
BEGIN:DAYLIGHT
TZOFFSETFROM:-0800
TZOFFSETTO:-0700
TZNAME:PDT
DTSTART:20240310T100000
END:DAYLIGHT
BEGIN:STANDARD
TZOFFSETFROM:-0700
TZOFFSETTO:-0800
TZNAME:PST
DTSTART:20241103T090000
END:STANDARD
BEGIN:DAYLIGHT
TZOFFSETFROM:-0800
TZOFFSETTO:-0700
TZNAME:PDT
DTSTART:20250309T100000
END:DAYLIGHT
BEGIN:STANDARD
TZOFFSETFROM:-0700
TZOFFSETTO:-0800
TZNAME:PST
DTSTART:20251102T090000
END:STANDARD
END:VTIMEZONE
BEGIN:VTIMEZONE
TZID:America/Los_Angeles
BEGIN:DAYLIGHT
TZOFFSETFROM:-0800
TZOFFSETTO:-0700
TZNAME:PDT
DTSTART:20230312T100000
END:DAYLIGHT
BEGIN:STANDARD
TZOFFSETFROM:-0700
TZOFFSETTO:-0800
TZNAME:PST
DTSTART:20231105T090000
END:STANDARD
BEGIN:DAYLIGHT
TZOFFSETFROM:-0800
TZOFFSETTO:-0700
TZNAME:PDT
DTSTART:20240310T100000
END:DAYLIGHT
BEGIN:STANDARD
TZOFFSETFROM:-0700
TZOFFSETTO:-0800
TZNAME:PST
DTSTART:20241103T090000
END:STANDARD
BEGIN:DAYLIGHT
TZOFFSETFROM:-0800
TZOFFSETTO:-0700
TZNAME:PDT
DTSTART:20250309T100000
END:DAYLIGHT
BEGIN:STANDARD
TZOFFSETFROM:-0700
TZOFFSETTO:-0800
TZNAME:PST
DTSTART:20251102T090000
END:STANDARD
BEGIN:DAYLIGHT
TZOFFSETFROM:-0800
TZOFFSETTO:-0700
TZNAME:PDT
DTSTART:20260308T100000
END:DAYLIGHT
BEGIN:STANDARD
TZOFFSETFROM:-0700
TZOFFSETTO:-0800
TZNAME:PST
DTSTART:20261101T090000
END:STANDARD
END:VTIMEZONE
BEGIN:VEVENT
DTSTART;TZID=America/Los_Angeles:20241204T180000
DTEND;TZID=America/Los_Angeles:20241204T200000
DTSTAMP:20260423T191244
CREATED:20241127T233934Z
LAST-MODIFIED:20241127T233934Z
UID:10001202-1733335200-1733342400@www.cityofsoledad.com
SUMMARY:Regular City Council Meeting
DESCRIPTION:
URL:https://www.cityofsoledad.com/event/regular-city-council-meeting-37/
LOCATION:Soledad City Hall\, 248 Main Street\, Soledad\, CA\, 93960
CATEGORIES:City Council
END:VEVENT
BEGIN:VEVENT
DTSTART;TZID=America/Los_Angeles:20241206T173000
DTEND;TZID=America/Los_Angeles:20241206T183000
DTSTAMP:20260423T191244
CREATED:20241119T193117Z
LAST-MODIFIED:20241119T193117Z
UID:10001201-1733506200-1733509800@www.cityofsoledad.com
SUMMARY:Christmas Tree Lighting
DESCRIPTION:Join us in welcoming the holiday season with the annual Christmas Tree Lighting ceremony! \nFriday\, December 6th at 5:30 pm at the Cesar Chavez Park located in downtown Front Street! \nFree hot cocoa & treats will be provided while supplies last!
URL:https://www.cityofsoledad.com/event/christmas-tree-lighting/
LOCATION:Cesar Chavez Park\, 555 Front St.\, Soledad\, CA\, 93960\, United States
ATTACH;FMTTYPE=application/pdf:https://www.cityofsoledad.com/wp-content/uploads/2024/11/CHRISTMAS_TREE_LIGHTING_FLYER1.pdf
END:VEVENT
BEGIN:VEVENT
DTSTART;TZID=America/Los_Angeles:20241207T140000
DTEND;TZID=America/Los_Angeles:20241207T190000
DTSTAMP:20260423T191244
CREATED:20241119T192500Z
LAST-MODIFIED:20241119T192500Z
UID:10001200-1733580000-1733598000@www.cityofsoledad.com
SUMMARY:Soledad Christmas Parade
DESCRIPTION:38th Annual Soledad Christmas Celebration \nSaturday\, December 7th\, 2024 \nJoin us in celebrating the holiday season at Cesar Chavez Park on Front Street. \nThe festivities will begin at 2:00 pm with local entertainment\, non profit groups\, toy drive & more! \nParade begins at 5:00 pm. \nRegister here to participate in the Christmas parade! 
URL:https://www.cityofsoledad.com/event/soledad-christmas-parade/
LOCATION:Cesar Chavez Park\, 555 Front St.\, Soledad\, CA\, 93960\, United States
ATTACH;FMTTYPE=application/pdf:https://www.cityofsoledad.com/wp-content/uploads/2024/11/TRUCK_CHRISTMAS_FLYER1.pdf
END:VEVENT
BEGIN:VEVENT
DTSTART;TZID=America/Los_Angeles:20241212T180000
DTEND;TZID=America/Los_Angeles:20241212T200000
DTSTAMP:20260423T191244
CREATED:20240118T013123Z
LAST-MODIFIED:20250129T193031Z
UID:10000844-1734026400-1734033600@www.cityofsoledad.com
SUMMARY:Regular Planning Commission Meeting
DESCRIPTION:
URL:https://www.cityofsoledad.com/event/regular-planning-commission-meeting-6/2024-12-12/
LOCATION:Soledad City Hall\, 248 Main Street\, Soledad\, CA\, 93960
END:VEVENT
BEGIN:VEVENT
DTSTART;TZID=America/Los_Angeles:20241214T160000
DTEND;TZID=America/Los_Angeles:20241214T190000
DTSTAMP:20260423T191244
CREATED:20241114T013125Z
LAST-MODIFIED:20241203T203520Z
UID:10001199-1734192000-1734202800@www.cityofsoledad.com
SUMMARY:Cookies with Santa
DESCRIPTION:Fun for the whole family! Enjoy cookie decorating\, hot chocolate\, a picture with Santa and more!\n\nDate & Time: December 14th\, 4pm – 7pm\nLocation: 560 Walker Dr\, Soledad\, CA 93960\nAdmission: Adults: $8   Child: $6\n\nActivities: \n\nKids Crafts\nPhoto with Santa\nCookie decorating\nUgly Christmas sweater contest\nGames\, music and more!
URL:https://www.cityofsoledad.com/event/cookies-with-santa-3/
LOCATION:Soledad Community Center\, 560 Walker Drive\, Soledad\, CA\, 93960\, United States
ATTACH;FMTTYPE=image/png:https://www.cityofsoledad.com/wp-content/uploads/2024/11/Cookies-with-Santa-Social-Media-1.png
END:VEVENT
BEGIN:VEVENT
DTSTART;TZID=America/Los_Angeles:20241218T180000
DTEND;TZID=America/Los_Angeles:20241218T200000
DTSTAMP:20260423T191244
CREATED:20240118T163122Z
LAST-MODIFIED:20240118T163202Z
UID:10001032-1734544800-1734552000@www.cityofsoledad.com
SUMMARY:Regular City Council Meeting
DESCRIPTION:
URL:https://www.cityofsoledad.com/event/regular-city-council-meeting-31/2024-12-18/
LOCATION:Soledad City Hall\, 248 Main Street\, Soledad\, CA\, 93960
CATEGORIES:City Council,City Hall
END:VEVENT
BEGIN:VEVENT
DTSTART;VALUE=DATE:20241224
DTEND;VALUE=DATE:20250102
DTSTAMP:20260423T191244
CREATED:20240123T005926Z
LAST-MODIFIED:20241212T172033Z
UID:10001144-1734998400-1735775999@www.cityofsoledad.com
SUMMARY:City Hall CLOSED - Christmas Day's 2024
DESCRIPTION:City Hall will be CLOSED on December 24\, 2024 – January 1st\, 2025 due to a federal holiday. \nHappy Holidays!
URL:https://www.cityofsoledad.com/event/city-hall-closed-christmas-days-2024/
LOCATION:Soledad City Hall\, 248 Main Street\, Soledad\, CA\, 93960
CATEGORIES:City Hall
ATTACH;FMTTYPE=image/jpeg:https://www.cityofsoledad.com/wp-content/uploads/2024/01/cityhallclosed-scaled.jpg
END:VEVENT
END:VCALENDAR